BEGIN:VCALENDAR
VERSION:2.0
PRODID:-//Sabre//Sabre VObject 4.5.6//EN
CALSCALE:GREGORIAN
BEGIN:VEVENT
UID:sabre-vobject-9276e944-cb6d-42c4-bea7-7e338804e71e
DTSTAMP:20260419T121943Z
SUMMARY:Heilige Messe
DESCRIPTION:https://gottesdienstsuche.com/gottesdienste/heilige-messe_id405
 11
DTSTART:20260421T190000
LOCATION:St. Vitus\, Dorfstraße\, 85276 Göbelsbach
END:VEVENT
END:VCALENDAR
