BEGIN:VCALENDAR
VERSION:2.0
PRODID:-//Sabre//Sabre VObject 4.5.6//EN
CALSCALE:GREGORIAN
BEGIN:VEVENT
UID:sabre-vobject-24f959b0-dd46-4e96-9197-20ef0c4dcfc0
DTSTAMP:20260424T093849Z
SUMMARY:Heilige Messe
DESCRIPTION:https://gottesdienstsuche.com/gottesdienste/heilige-messe_id405
 05
DTSTART:20260422T190000
LOCATION:St. Pantaleon\, Kirchberg 3\, 86558 Hohenwart
END:VEVENT
END:VCALENDAR
