BEGIN:VCALENDAR
VERSION:2.0
PRODID:-//Sabre//Sabre VObject 4.5.6//EN
CALSCALE:GREGORIAN
BEGIN:VEVENT
UID:sabre-vobject-83ea9b4e-d3e0-4570-8022-9ddbc3a8a5dd
DTSTAMP:20260424T043411Z
SUMMARY:Rosenkranz
DESCRIPTION:https://gottesdienstsuche.com/gottesdienste/rosenkranz_id40492
DTSTART:20260425T163000
LOCATION:Mariä Reinigung\, Oberhofstraße 15\, 85276 Tegernbach
END:VEVENT
END:VCALENDAR
