BEGIN:VCALENDAR
VERSION:2.0
PRODID:-//Sabre//Sabre VObject 4.5.6//EN
CALSCALE:GREGORIAN
BEGIN:VEVENT
UID:sabre-vobject-6799ce4a-42d3-427a-9ab5-5f967e779113
DTSTAMP:20260422T112743Z
SUMMARY:Heilige Messe
DESCRIPTION:https://gottesdienstsuche.com/gottesdienste/heilige-messe_id404
 70
DTSTART:20260424T190000
LOCATION:St. Sebastian\, Oberhofstr. 17\, 85276 Pfaffenhofen
END:VEVENT
END:VCALENDAR
