BEGIN:VCALENDAR
VERSION:2.0
PRODID:-//Sabre//Sabre VObject 4.5.6//EN
CALSCALE:GREGORIAN
BEGIN:VEVENT
UID:sabre-vobject-88fd6114-d4e2-4944-a85b-dc805b3068ed
DTSTAMP:20260421T095253Z
SUMMARY:Rosenkranz
DESCRIPTION:https://gottesdienstsuche.com/gottesdienste/rosenkranz_id40436
DTSTART:20260421T190000
LOCATION:St. Ulrich\, Lindach 10\, 86558 Hohenwart
END:VEVENT
END:VCALENDAR
