BEGIN:VCALENDAR
VERSION:2.0
PRODID:-//Sabre//Sabre VObject 4.5.6//EN
CALSCALE:GREGORIAN
BEGIN:VEVENT
UID:sabre-vobject-e4006b69-5e7b-4d5c-b07e-5de37711f612
DTSTAMP:20260424T083042Z
SUMMARY:Heilige Messe
DESCRIPTION:https://gottesdienstsuche.com/gottesdienste/heilige-messe_id404
 30
DTSTART:20260423T190000
LOCATION:St. Ulrich\, Kirchplatz\, 86558 Ehrenberg
END:VEVENT
END:VCALENDAR
