BEGIN:VCALENDAR
VERSION:2.0
PRODID:-//Sabre//Sabre VObject 4.5.6//EN
CALSCALE:GREGORIAN
BEGIN:VEVENT
UID:sabre-vobject-1f031ddf-a44c-464e-98fa-350d567ad881
DTSTAMP:20260421T094924Z
SUMMARY:Heilige Messe
DESCRIPTION:https://gottesdienstsuche.com/gottesdienste/heilige-messe_id404
 16
DTSTART:20260520T180000
LOCATION:Mariä Himmelfahrt\, Kirchstraße 2\, 85107 Baar
END:VEVENT
END:VCALENDAR
