BEGIN:VCALENDAR
VERSION:2.0
PRODID:-//Sabre//Sabre VObject 4.5.6//EN
CALSCALE:GREGORIAN
BEGIN:VEVENT
UID:sabre-vobject-9c0425e7-6477-4c4c-ab96-fb557034b556
DTSTAMP:20260423T134838Z
SUMMARY:Maiandacht
DESCRIPTION:https://gottesdienstsuche.com/gottesdienste/maiandacht_id40372
DTSTART:20260503T180000
LOCATION:St. Martin\, Münchener Str. 43\, 85107 Baar-Ebenhausen
END:VEVENT
END:VCALENDAR
