BEGIN:VCALENDAR
VERSION:2.0
PRODID:-//Sabre//Sabre VObject 4.5.6//EN
CALSCALE:GREGORIAN
BEGIN:VEVENT
UID:sabre-vobject-424411ca-0ac4-4214-a9bf-45af7fbe7c9c
DTSTAMP:20260419T123558Z
SUMMARY:Heilige Messe
DESCRIPTION:https://gottesdienstsuche.com/gottesdienste/heilige-messe_id403
 57
DTSTART:20260503T100000
LOCATION:St. Martin\, Münchener Str. 43\, 85107 Baar-Ebenhausen
END:VEVENT
END:VCALENDAR
