BEGIN:VCALENDAR
VERSION:2.0
PRODID:-//Sabre//Sabre VObject 4.5.6//EN
CALSCALE:GREGORIAN
BEGIN:VEVENT
UID:sabre-vobject-6bc4b279-8df0-43fc-a3b7-2b9f0680e700
DTSTAMP:20260419T145039Z
SUMMARY:Treffpunkt an der Kirche
DESCRIPTION:https://gottesdienstsuche.com/gottesdienste/treffpunkt-an-der-k
 irche_id40354
DTSTART:20260512T183000
LOCATION:St. Bartholomäus\, Barthelmarktstraße 1\, 85077 Manching
END:VEVENT
END:VCALENDAR
