BEGIN:VCALENDAR
VERSION:2.0
PRODID:-//Sabre//Sabre VObject 4.5.6//EN
CALSCALE:GREGORIAN
BEGIN:VEVENT
UID:sabre-vobject-26ea085e-5541-4d3a-b711-b858d351518d
DTSTAMP:20260421T094642Z
SUMMARY:Maiandacht an Muttertag mit Lichterprozession zur Mariensäule
DESCRIPTION:https://gottesdienstsuche.com/gottesdienste/maiandacht-an-mutte
 rtag-mit-lichterprozession-zur-mariensaeule_id40329
DTSTART:20260510T190000
LOCATION:St. Peter\, Geisenfelder Straße 1\, 85077 Manching
END:VEVENT
END:VCALENDAR
