BEGIN:VCALENDAR
VERSION:2.0
PRODID:-//Sabre//Sabre VObject 4.5.6//EN
CALSCALE:GREGORIAN
BEGIN:VEVENT
UID:sabre-vobject-8967b323-5462-479a-94da-7486360b0b05
DTSTAMP:20260419T122852Z
SUMMARY:Gebetsgemeinschaft
DESCRIPTION:https://gottesdienstsuche.com/gottesdienste/gebetsgemeinschaft_
 id40318
DTSTART:20260505T090000
LOCATION:St. Peter\, Geisenfelder Straße 1\, 85077 Manching
END:VEVENT
END:VCALENDAR
