BEGIN:VCALENDAR
VERSION:2.0
PRODID:-//Sabre//Sabre VObject 4.5.6//EN
CALSCALE:GREGORIAN
BEGIN:VEVENT
UID:sabre-vobject-152cfa6e-30f4-413e-b11c-f55a5cc78811
DTSTAMP:20260421T095051Z
SUMMARY:Pfarrgottesdienst
DESCRIPTION:https://gottesdienstsuche.com/gottesdienste/pfarrgottesdienst_i
 d40313
DTSTART:20260503T100000
LOCATION:St. Peter\, Geisenfelder Straße 1\, 85077 Manching
END:VEVENT
END:VCALENDAR
