BEGIN:VCALENDAR
VERSION:2.0
PRODID:-//Sabre//Sabre VObject 4.5.6//EN
CALSCALE:GREGORIAN
BEGIN:VEVENT
UID:sabre-vobject-401b8ccb-746a-4201-90ea-5975d392ed5e
DTSTAMP:20260421T095328Z
SUMMARY:Rosenkranz
DESCRIPTION:https://gottesdienstsuche.com/gottesdienste/rosenkranz_id40312
DTSTART:20260504T153000
LOCATION:St. Peter\, Geisenfelder Straße 1\, 85077 Manching
END:VEVENT
END:VCALENDAR
