BEGIN:VCALENDAR
VERSION:2.0
PRODID:-//Sabre//Sabre VObject 4.5.6//EN
CALSCALE:GREGORIAN
BEGIN:VEVENT
UID:sabre-vobject-79dd73cb-14b3-458f-8f75-7c6371d1c1f0
DTSTAMP:20260419T202203Z
SUMMARY:Vorabendmesse für die Lebenden und Verstorbenen unserer Pfarreien
DESCRIPTION:https://gottesdienstsuche.com/gottesdienste/vorabendmesse-fuer-
 die-lebenden-und-verstorbenen-unserer-pfarreien_id40294
DTSTART:20260502T190000
LOCATION:St. Stephan\, Rohr 29\, 85296 Rohrbach
END:VEVENT
END:VCALENDAR
