BEGIN:VCALENDAR
VERSION:2.0
PRODID:-//Sabre//Sabre VObject 4.5.6//EN
CALSCALE:GREGORIAN
BEGIN:VEVENT
UID:sabre-vobject-66cf0fd2-6405-4c5b-9c8f-5286f8c67809
DTSTAMP:20260420T044152Z
SUMMARY:Bibelabend im Pfarrheim
DESCRIPTION:https://gottesdienstsuche.com/gottesdienste/bibelabend-im-pfarr
 heim_id40283
DTSTART:20260506T193000
LOCATION:Verklärung Christi\, Kirchenweg 3\, 85296 Rohrbach
END:VEVENT
END:VCALENDAR
