BEGIN:VCALENDAR
VERSION:2.0
PRODID:-//Sabre//Sabre VObject 4.5.6//EN
CALSCALE:GREGORIAN
BEGIN:VEVENT
UID:sabre-vobject-3f7d3864-46ee-4b50-ba6b-94511a2e48b7
DTSTAMP:20260419T184043Z
SUMMARY:Beichtgelegenheit
DESCRIPTION:https://gottesdienstsuche.com/gottesdienste/beichtgelegenheit_i
 d40281
DTSTART:20260502T163000
LOCATION:Verklärung Christi\, Kirchenweg 3\, 85296 Rohrbach
END:VEVENT
END:VCALENDAR
