BEGIN:VCALENDAR
VERSION:2.0
PRODID:-//Sabre//Sabre VObject 4.5.6//EN
CALSCALE:GREGORIAN
BEGIN:VEVENT
UID:sabre-vobject-b8c7593b-8a90-41dc-88fe-20de95d76643
DTSTAMP:20260419T150549Z
SUMMARY:Heilige Messe mit eucharistischem Segen
DESCRIPTION:https://gottesdienstsuche.com/gottesdienste/heilige-messe-mit-e
 ucharistischem-segen_id40279
DTSTART:20260430T190000
LOCATION:Verklärung Christi\, Kirchenweg 3\, 85296 Rohrbach
END:VEVENT
END:VCALENDAR
