BEGIN:VCALENDAR
VERSION:2.0
PRODID:-//Sabre//Sabre VObject 4.5.6//EN
CALSCALE:GREGORIAN
BEGIN:VEVENT
UID:sabre-vobject-425a2658-aead-420c-81bd-7d521461c4f5
DTSTAMP:20260420T030135Z
SUMMARY:Anbetung mit Stundengebet
DESCRIPTION:https://gottesdienstsuche.com/gottesdienste/anbetung-mit-stunde
 ngebet_id40269
DTSTART:20260506T180000
LOCATION:St. Martin\, Kirchberg 9\, 85296 Fahlenbach
END:VEVENT
END:VCALENDAR
