BEGIN:VCALENDAR
VERSION:2.0
PRODID:-//Sabre//Sabre VObject 4.5.6//EN
CALSCALE:GREGORIAN
BEGIN:VEVENT
UID:sabre-vobject-856fec84-e0b2-4905-8f46-c4c53fb484e4
DTSTAMP:20260420T145425Z
SUMMARY:Vorabendmesse
DESCRIPTION:https://gottesdienstsuche.com/gottesdienste/vorabendmesse_id402
 65
DTSTART:20260425T183000
LOCATION:St. Martin\, Hauptstraße 14\, 85309 Pörnbach
END:VEVENT
END:VCALENDAR
