BEGIN:VCALENDAR
VERSION:2.0
PRODID:-//Sabre//Sabre VObject 4.5.6//EN
CALSCALE:GREGORIAN
BEGIN:VEVENT
UID:sabre-vobject-ca3bba45-fb46-4b09-951a-207c33d9d248
DTSTAMP:20260420T030016Z
SUMMARY:Heilige Messe
DESCRIPTION:https://gottesdienstsuche.com/gottesdienste/heilige-messe_id402
 64
DTSTART:20260422T180000
LOCATION:St. Martin\, Hauptstraße 14\, 85309 Pörnbach
END:VEVENT
END:VCALENDAR
