BEGIN:VCALENDAR
VERSION:2.0
PRODID:-//Sabre//Sabre VObject 4.5.6//EN
CALSCALE:GREGORIAN
BEGIN:VEVENT
UID:sabre-vobject-ca463307-daa1-417d-b3f4-64091a15e9d3
DTSTAMP:20260420T010737Z
SUMMARY:Rosenkranz
DESCRIPTION:https://gottesdienstsuche.com/gottesdienste/rosenkranz_id40263
DTSTART:20260422T173000
LOCATION:St. Martin\, Hauptstraße 14\, 85309 Pörnbach
END:VEVENT
END:VCALENDAR
