BEGIN:VCALENDAR
VERSION:2.0
PRODID:-//Sabre//Sabre VObject 4.5.6//EN
CALSCALE:GREGORIAN
BEGIN:VEVENT
UID:sabre-vobject-d0be6109-e3c1-4e23-95c7-89b9829734ee
DTSTAMP:20260420T182119Z
SUMMARY:Gottesdienst - Erstkommunion musik. Gestaltung d. Kirchenchor
DESCRIPTION:https://gottesdienstsuche.com/gottesdienste/gottesdienst-erstko
 mmunion-musik-gestaltung-d-kirchenchor_id40262
DTSTART:20260426T090000
LOCATION:St. Johannes Baptist\, Kirchplatz\, 85309 Pörnbach
END:VEVENT
END:VCALENDAR
