BEGIN:VCALENDAR
VERSION:2.0
PRODID:-//Sabre//Sabre VObject 4.5.6//EN
CALSCALE:GREGORIAN
BEGIN:VEVENT
UID:sabre-vobject-a03bc95e-66ce-4d92-8c6a-3a1f66d67b6a
DTSTAMP:20260420T062803Z
SUMMARY:Heilige Messe
DESCRIPTION:https://gottesdienstsuche.com/gottesdienste/heilige-messe_id402
 61
DTSTART:20260423T180000
LOCATION:St. Johannes Baptist\, Kirchplatz\, 85309 Pörnbach
END:VEVENT
END:VCALENDAR
