BEGIN:VCALENDAR
VERSION:2.0
PRODID:-//Sabre//Sabre VObject 4.5.6//EN
CALSCALE:GREGORIAN
BEGIN:VEVENT
UID:sabre-vobject-8aef9885-cc61-4181-ba4f-1ed305328c9b
DTSTAMP:20260420T044602Z
SUMMARY:Rosenkranz
DESCRIPTION:https://gottesdienstsuche.com/gottesdienste/rosenkranz_id40260
DTSTART:20260423T173000
LOCATION:St. Johannes Baptist\, Kirchplatz\, 85309 Pörnbach
END:VEVENT
END:VCALENDAR
