BEGIN:VCALENDAR
VERSION:2.0
PRODID:-//Sabre//Sabre VObject 4.5.6//EN
CALSCALE:GREGORIAN
BEGIN:VEVENT
UID:sabre-vobject-51db9fda-54ae-4f52-8777-5be16de77ec6
DTSTAMP:20260421T094654Z
SUMMARY:Probe für alle Kinder\, die in Pörnbach zur Erstkommunion gehen
DESCRIPTION:https://gottesdienstsuche.com/gottesdienste/probe-fuer-alle-kin
 der-die-in-poernbach-zur-erstkommunion-gehen_id40259
DTSTART:20260421T153000
LOCATION:St. Johannes Baptist\, Kirchplatz\, 85309 Pörnbach
END:VEVENT
END:VCALENDAR
