BEGIN:VCALENDAR
VERSION:2.0
PRODID:-//Sabre//Sabre VObject 4.5.6//EN
CALSCALE:GREGORIAN
BEGIN:VEVENT
UID:sabre-vobject-ccfa028a-d90d-4a4d-80e7-d74182fa3753
DTSTAMP:20260421T094803Z
SUMMARY:In Raitbach: Heilige Messe
DESCRIPTION:https://gottesdienstsuche.com/gottesdienste/in-raitbach-heilige
 -messe_id40258
DTSTART:20260420T184500
LOCATION:St. Johannes Baptist\, Kirchplatz\, 85309 Pörnbach
END:VEVENT
END:VCALENDAR
