BEGIN:VCALENDAR
VERSION:2.0
PRODID:-//Sabre//Sabre VObject 4.5.6//EN
CALSCALE:GREGORIAN
BEGIN:VEVENT
UID:sabre-vobject-5951b9c3-a4b4-4335-a519-c5c556b4f39e
DTSTAMP:20260420T201719Z
SUMMARY:Gottesdienst - Erstkommunion musik. gest. v. Chor Taktvoll
DESCRIPTION:https://gottesdienstsuche.com/gottesdienste/gottesdienst-erstko
 mmunion-musik-gest-v-chor-taktvoll_id40257
DTSTART:20260426T103000
LOCATION:St. Katharina\, Herrnstr. 7\, 85084 Reichertshofen
END:VEVENT
END:VCALENDAR
