BEGIN:VCALENDAR
VERSION:2.0
PRODID:-//Sabre//Sabre VObject 4.5.6//EN
CALSCALE:GREGORIAN
BEGIN:VEVENT
UID:sabre-vobject-8a19a124-08ab-49fc-928a-2895a0adee21
DTSTAMP:20260420T164317Z
SUMMARY:Gottesdienst
DESCRIPTION:https://gottesdienstsuche.com/gottesdienste/gottesdienst_id4025
 5
DTSTART:20260426T090000
LOCATION:St. Nikolaus\, Herrnstr. 7\, 85084 Reichertshofen
END:VEVENT
END:VCALENDAR
