BEGIN:VCALENDAR
VERSION:2.0
PRODID:-//Sabre//Sabre VObject 4.5.6//EN
CALSCALE:GREGORIAN
BEGIN:VEVENT
UID:sabre-vobject-7356524d-0436-41c9-b5a9-d9f01ce5e63b
DTSTAMP:20260419T201629Z
SUMMARY:Heilige Messe
DESCRIPTION:https://gottesdienstsuche.com/gottesdienste/heilige-messe_id402
 54
DTSTART:20260421T180000
LOCATION:St. Nikolaus\, Herrnstr. 7\, 85084 Reichertshofen
END:VEVENT
END:VCALENDAR
