BEGIN:VCALENDAR
VERSION:2.0
PRODID:-//Sabre//Sabre VObject 4.5.6//EN
CALSCALE:GREGORIAN
BEGIN:VEVENT
UID:sabre-vobject-38241c6b-d4e9-4a9d-890f-30e1d56e17eb
DTSTAMP:20260419T202004Z
SUMMARY:Rosenkranz
DESCRIPTION:https://gottesdienstsuche.com/gottesdienste/rosenkranz_id40253
DTSTART:20260421T173000
LOCATION:St. Nikolaus\, Herrnstr. 7\, 85084 Reichertshofen
END:VEVENT
END:VCALENDAR
