BEGIN:VCALENDAR
VERSION:2.0
PRODID:-//Sabre//Sabre VObject 4.5.6//EN
CALSCALE:GREGORIAN
BEGIN:VEVENT
UID:sabre-vobject-158541af-e3ed-4612-ba54-65c88d9119e2
DTSTAMP:20260419T204107Z
SUMMARY:Eucharistische Anbetung in der Seitenkapelle
DESCRIPTION:https://gottesdienstsuche.com/gottesdienste/eucharistische-anbe
 tung-in-der-seitenkapelle_id40250
DTSTART:20260421T180000
LOCATION:St. Margaretha\, Marktstraße 5\, 85084 Reichertshofen
END:VEVENT
END:VCALENDAR
