BEGIN:VCALENDAR
VERSION:2.0
PRODID:-//Sabre//Sabre VObject 4.5.6//EN
CALSCALE:GREGORIAN
BEGIN:VEVENT
UID:sabre-vobject-f04ce5d3-470f-4505-b364-79a389d98fce
DTSTAMP:20260420T080131Z
SUMMARY:Andacht vor dem ausgesetzten Allerheiligsten
DESCRIPTION:https://gottesdienstsuche.com/gottesdienste/andacht-vor-dem-aus
 gesetzten-allerheiligsten_id40248
DTSTART:20260424T173000
LOCATION:St. Katharina\, Herrnstr. 7\, 85084 Reichertshofen
END:VEVENT
END:VCALENDAR
