BEGIN:VCALENDAR
VERSION:2.0
PRODID:-//Sabre//Sabre VObject 4.5.6//EN
CALSCALE:GREGORIAN
BEGIN:VEVENT
UID:sabre-vobject-d6a5de82-ba87-4a55-ae76-48a8f55fa10e
DTSTAMP:20260419T232950Z
SUMMARY:Glaubens- und Bibelgesprächskreis
DESCRIPTION:https://gottesdienstsuche.com/gottesdienste/glaubens-und-bibelg
 espraechskreis_id40247
DTSTART:20260421T190000
LOCATION:St. Katharina\, Herrnstr. 7\, 85084 Reichertshofen
END:VEVENT
END:VCALENDAR
