BEGIN:VCALENDAR
VERSION:2.0
PRODID:-//Sabre//Sabre VObject 4.5.6//EN
CALSCALE:GREGORIAN
BEGIN:VEVENT
UID:sabre-vobject-3bc1bb3b-5221-418b-8b0c-7b24e8e37856
DTSTAMP:20260419T203737Z
SUMMARY:Probe für alle Kinder\, die in Langenbruck zur Erstkommunion gehen
DESCRIPTION:https://gottesdienstsuche.com/gottesdienste/probe-fuer-alle-kin
 der-die-in-langenbruck-zur-erstkommunion-gehen_id40246
DTSTART:20260421T170000
LOCATION:St. Katharina\, Herrnstr. 7\, 85084 Reichertshofen
END:VEVENT
END:VCALENDAR
