BEGIN:VCALENDAR
VERSION:2.0
PRODID:-//Sabre//Sabre VObject 4.5.6//EN
CALSCALE:GREGORIAN
BEGIN:VEVENT
UID:sabre-vobject-0daaf145-abca-49ee-bc14-8252e7153b55
DTSTAMP:20260421T095110Z
SUMMARY:Kinderkirche im Pfarrsaal
DESCRIPTION:https://gottesdienstsuche.com/gottesdienste/kinderkirche-im-pfa
 rrsaal_id40245
DTSTART:20260419T101500
LOCATION:St. Katharina\, Herrnstr. 7\, 85084 Reichertshofen
END:VEVENT
END:VCALENDAR
