BEGIN:VCALENDAR
VERSION:2.0
PRODID:-//Sabre//Sabre VObject 4.5.6//EN
CALSCALE:GREGORIAN
BEGIN:VEVENT
UID:sabre-vobject-5cd1eaad-1675-40d1-82e2-575f50d33ae0
DTSTAMP:20260422T000731Z
SUMMARY:Gottesdienst
DESCRIPTION:https://gottesdienstsuche.com/gottesdienst_id40005
DTSTART:20260428T190000
LOCATION:Filialkirche Aufham-St. Nikolaus\, Otterbachstr. 11\, 85301 Aufham
END:VEVENT
END:VCALENDAR
