BEGIN:VCALENDAR
VERSION:2.0
PRODID:-//Sabre//Sabre VObject 4.5.6//EN
CALSCALE:GREGORIAN
BEGIN:VEVENT
UID:sabre-vobject-60fc6ade-4a45-43be-b8f2-d69c588e78d7
DTSTAMP:20260422T151446Z
SUMMARY:Pfarrgottesdienst mit Segnung der Palmbuschen (Beginn am Kirchplatz
 )
DESCRIPTION:https://gottesdienstsuche.com/pfarrgottesdienst-mit-segnung-der
 -palmbuschen-beginn-am-kirchplatz_id39302
DTSTART:20260329T103000
LOCATION:Pfarrkirche Schweitenkirchen-St. Johann Baptist\, Kirchenweg\, 853
 01 Schweitenkirchen
END:VEVENT
END:VCALENDAR
