BEGIN:VCALENDAR
VERSION:2.0
PRODID:-//Sabre//Sabre VObject 4.5.6//EN
CALSCALE:GREGORIAN
BEGIN:VEVENT
UID:sabre-vobject-f358c204-0935-413b-b80e-f3bf107f5d70
DTSTAMP:20260422T133033Z
SUMMARY:Pfarrgottesdienst mit Segnung der Palmbuschen\, anschl. Fastenessen
  im Pfarrheim
DESCRIPTION:https://gottesdienstsuche.com/pfarrgottesdienst-mit-segnung-der
 -palmbuschen-anschl-fastenessen-im-pfarrheim_id39301
DTSTART:20260329T103000
LOCATION:Pfarrkirche Förnbach-Mariä Himmelfahrt\, Förnbachstr. 22\, 8527
 6 Förnbach
END:VEVENT
END:VCALENDAR
