BEGIN:VCALENDAR
VERSION:2.0
PRODID:-//Sabre//Sabre VObject 4.5.6//EN
CALSCALE:GREGORIAN
BEGIN:VEVENT
UID:sabre-vobject-ca2a03c3-3202-4664-b42a-b6936ec4d9d0
DTSTAMP:20260422T095907Z
SUMMARY:Palmsegung und Prozession im Klosterhof\, Konventgottesdienst\, Mus
 ik: J. Rheinberger: Messe misericordias Domini\, H. Schütz: Motteten
DESCRIPTION:https://gottesdienstsuche.com/palmsegung-und-prozession-im-klos
 terhof-konventgottesdienst-musik-j-rheinberger-messe-misericordias-domini-
 h-schuetz-motteten_id39107
DTSTART:20260329T100000
LOCATION:Pfarrkirche Scheyern-Heilig Kreuz (Klosterkirche)\, Schyrenplatz \
 , 85298 Scheyern
END:VEVENT
END:VCALENDAR
