BEGIN:VCALENDAR
VERSION:2.0
PRODID:-//Sabre//Sabre VObject 4.5.6//EN
CALSCALE:GREGORIAN
BEGIN:VEVENT
UID:sabre-vobject-e8f30337-c692-45eb-b941-d43d70233ef1
DTSTAMP:20260422T114552Z
SUMMARY:Pfarrgottesdienst mit Palmsegnung im Pfarrgarten und anschl. Prozes
 sion in die Pfarrkirche
DESCRIPTION:https://gottesdienstsuche.com/pfarrgottesdienst-mit-palmsegnung
 -im-pfarrgarten-und-anschl-prozession-in-die-pfarrkirche_id39106
DTSTART:20260329T100000
LOCATION:Pfarrkirche Gerolsbach-St. Andreas\, St.-Andreas-Str. 7\, 85302 Ge
 rolsbach
END:VEVENT
END:VCALENDAR
