BEGIN:VCALENDAR
VERSION:2.0
PRODID:-//Sabre//Sabre VObject 4.5.6//EN
CALSCALE:GREGORIAN
BEGIN:VEVENT
UID:sabre-vobject-f9086dc5-473c-4e89-8a87-036e435b531a
DTSTAMP:20260419T124235Z
SUMMARY:Heilige Messe
DESCRIPTION:https://gottesdienstsuche.com/gottesdienste/heilige-messe_id375
 74
DTSTART:20260719T100000
LOCATION:Verklärung Christi\, Kirchenweg 3\, 85296 Rohrbach
END:VEVENT
END:VCALENDAR
