BEGIN:VCALENDAR
VERSION:2.0
PRODID:-//Sabre//Sabre VObject 4.5.6//EN
CALSCALE:GREGORIAN
BEGIN:VEVENT
UID:sabre-vobject-87de655b-a4f7-4898-9fc0-b844dfdd1f5f
DTSTAMP:20260419T125349Z
SUMMARY:Trauung Keck Christian und Carolin
DESCRIPTION:https://gottesdienstsuche.com/gottesdienste/trauung-keck-christ
 ian-und-carolin_id37572
DTSTART:20260718T130000
LOCATION:Verklärung Christi\, Kirchenweg 3\, 85296 Rohrbach
END:VEVENT
END:VCALENDAR
