BEGIN:VCALENDAR
VERSION:2.0
PRODID:-//Sabre//Sabre VObject 4.5.6//EN
CALSCALE:GREGORIAN
BEGIN:VEVENT
UID:sabre-vobject-d97fdc75-3091-4d4c-8fae-9f4399b07e43
DTSTAMP:20260419T124907Z
SUMMARY:in der Wahlfahrtskirche Lohwinden in den Anliegen der Wallfahrer un
 d ihrer Familien
DESCRIPTION:https://gottesdienstsuche.com/gottesdienste/in-der-wahlfahrtski
 rche-lohwinden-in-den-anliegen-der-wallfahrer-und-ihrer-familien_id37569
DTSTART:20260713T193000
LOCATION:Verklärung Christi\, Kirchenweg 3\, 85296 Rohrbach
END:VEVENT
END:VCALENDAR
