BEGIN:VCALENDAR
VERSION:2.0
PRODID:-//Sabre//Sabre VObject 4.5.6//EN
CALSCALE:GREGORIAN
BEGIN:VEVENT
UID:sabre-vobject-f327ab07-94b5-4bab-b1a1-6cd28926449a
DTSTAMP:20260419T124924Z
SUMMARY:Bittgang nach Lohwinden\nTreffpunkt an der Staatsstrasse \njedes Ja
 hr am 13. egal welcher Wochentag
DESCRIPTION:https://gottesdienstsuche.com/gottesdienste/bittgang-nach-lohwi
 nden-treffpunkt-an-der-staatsstrasse-jedes-jahr-am-13-egal-welcher-wochent
 ag_id37558
DTSTART:20260713T190000
LOCATION:Verklärung Christi\, Kirchenweg 3\, 85296 Rohrbach
END:VEVENT
END:VCALENDAR
