BEGIN:VCALENDAR
VERSION:2.0
PRODID:-//Sabre//Sabre VObject 4.5.6//EN
CALSCALE:GREGORIAN
BEGIN:VEVENT
UID:sabre-vobject-7caa3c8c-8879-4a1f-ba31-3636aae55524
DTSTAMP:20260419T125016Z
SUMMARY:Bittgang Lohwinden\, Treffpunkt zum Bittgang an der Staatsstrasse
DESCRIPTION:https://gottesdienstsuche.com/gottesdienste/bittgang-lohwinden-
 treffpunkt-zum-bittgang-an-der-staatsstrasse_id37557
DTSTART:20260713T190000
LOCATION:Verklärung Christi\, Kirchenweg 3\, 85296 Rohrbach
END:VEVENT
END:VCALENDAR
