BEGIN:VCALENDAR
VERSION:2.0
PRODID:-//Sabre//Sabre VObject 4.5.6//EN
CALSCALE:GREGORIAN
BEGIN:VEVENT
UID:sabre-vobject-405f8303-3b45-4028-ab22-09c07d970d9f
DTSTAMP:20260419T125031Z
SUMMARY:Trauung Thalmeie caroline und Josef
DESCRIPTION:https://gottesdienstsuche.com/gottesdienste/trauung-thalmeie-ca
 roline-und-josef_id37527
DTSTART:20260711T123000
LOCATION:Verklärung Christi\, Kirchenweg 3\, 85296 Rohrbach
END:VEVENT
END:VCALENDAR
