BEGIN:VCALENDAR
VERSION:2.0
PRODID:-//Sabre//Sabre VObject 4.5.6//EN
CALSCALE:GREGORIAN
BEGIN:VEVENT
UID:sabre-vobject-6f8d75b0-039a-42b6-b8c0-2f31c0eb66a2
DTSTAMP:20260419T161418Z
SUMMARY:Heilige Messe
DESCRIPTION:https://gottesdienstsuche.com/gottesdienste/heilige-messe_id375
 25
DTSTART:20260709T190000
LOCATION:Verklärung Christi\, Kirchenweg 3\, 85296 Rohrbach
END:VEVENT
END:VCALENDAR
