BEGIN:VCALENDAR
VERSION:2.0
PRODID:-//Sabre//Sabre VObject 4.5.6//EN
CALSCALE:GREGORIAN
BEGIN:VEVENT
UID:sabre-vobject-2f75a05a-9ca3-4c2a-998f-920a2c1d974f
DTSTAMP:20260420T040522Z
SUMMARY:Beichtgelegenheit
DESCRIPTION:https://gottesdienstsuche.com/gottesdienste/beichtgelegenheit_i
 d37523
DTSTART:20260704T163000
LOCATION:Verklärung Christi\, Kirchenweg 3\, 85296 Rohrbach
END:VEVENT
END:VCALENDAR
