BEGIN:VCALENDAR
VERSION:2.0
PRODID:-//Sabre//Sabre VObject 4.5.6//EN
CALSCALE:GREGORIAN
BEGIN:VEVENT
UID:sabre-vobject-f415c306-1e68-4766-810f-769d056a4ef9
DTSTAMP:20260420T055451Z
SUMMARY:Heilige Messe
DESCRIPTION:https://gottesdienstsuche.com/gottesdienste/heilige-messe_id375
 22
DTSTART:20260703T190000
LOCATION:Verklärung Christi\, Kirchenweg 3\, 85296 Rohrbach
END:VEVENT
END:VCALENDAR
